BEGIN:VCALENDAR
VERSION:2.0
CALSCALE:GREGORIAN
PRODID:adamgibbons/ics
METHOD:PUBLISH
X-PUBLISHED-TTL:PT1H
BEGIN:VEVENT
UID:2851@calendar.kufoka.de
SUMMARY:1. Kaarster Schlagerparty - Schlagerparty mit Sarah Engels & Frenzy
	 - ABGESAGT!
DTSTAMP:20260421T110920Z
DTSTART:20260627T180000Z
DTEND:20260627T180500Z
DESCRIPTION:Kaarst kann Schlager – Paryhits Live !\n\nErlebt einen Abend vo
	ller Musik\, Stimmung und Partyspaß bei der ersten\nSchlagerparty im Alber
	t Einstein Forum.\nDie beliebten Künstlerinnen Sarah Engels und Franzy sor
	gen mit ihren Hits und\njede Menge Energie für einen unvergesslichen Party
	abend.\nSarah Engels w\n\nWeitere Informationen:\nhttps://www.kabarett-kaa
	rst.de/events/1-kaarster-schlagerparty-schlagerparty-mit-sarah-engels-fren
	zy-abgesagt\n[https://www.kabarett-kaarst.de/events/1-kaarster-schlagerpar
	ty-schlagerparty-mit-sarah-engels-frenzy-abgesagt]\n
URL:https://calendar.kufoka.de/event/1-kaarster-schlagerparty-schlagerparty
	-mit-sarah-engels-and-frenzy-abgesagt
LOCATION:Kabarett Kaarst - Hanns-Martin-Schleyer-Straße 27\, 41564 Kaarst
STATUS:CONFIRMED
CATEGORIES:AUSSTELLUNG,KAARST,MUSIK
X-ALT-DESC;FMTTYPE=text/html:Kaarst kann Schlager – Paryhits Live !<br><br>
	Erlebt einen Abend voller Musik, Stimmung und Partyspaß bei der ersten Sch
	lagerparty im Albert Einstein Forum.<br>Die beliebten Künstlerinnen Sarah 
	Engels und Franzy sorgen mit ihren Hits und jede Menge Energie für einen u
	nvergesslichen Partyabend.<br>Sarah Engels w<br><br>Weitere Informationen:
	<br><a href="https://www.kabarett-kaarst.de/events/1-kaarster-schlagerpart
	y-schlagerparty-mit-sarah-engels-frenzy-abgesagt">https://www.kabarett-kaa
	rst.de/events/1-kaarster-schlagerparty-schlagerparty-mit-sarah-engels-fren
	zy-abgesagt</a><br>
BEGIN:VALARM
ACTION:DISPLAY
DESCRIPTION:1. Kaarster Schlagerparty - Schlagerparty mit Sarah Engels & Fr
	enzy - ABGESAGT!
TRIGGER:-PT1H
END:VALARM
END:VEVENT
END:VCALENDAR
