BEGIN:VCALENDAR
VERSION:2.0
CALSCALE:GREGORIAN
PRODID:adamgibbons/ics
METHOD:PUBLISH
X-PUBLISHED-TTL:PT1H
BEGIN:VEVENT
UID:2839@calendar.kufoka.de
SUMMARY:Ausstellung Urban Pop Art Vol. II - letzte Gelegenheit!
DTSTAMP:20260420T104710Z
DTSTART:20260506T080000Z
DESCRIPTION:Ein letzter Blick\, die zweite Urban Pop Art-Ausstellung in der
	 Wertheim Arts\nGalerie\, Kaarst-Büttgen\, endet heute. Frech und bildgewa
	ltig\, modern und mit\nkritischem Zeitgeist. Zu sehen sind Arbeiten unter.
	.. mehr\n\nWeitere Informationen:\nhttps://wertheim-arts.net/Termine/ [htt
	ps://wertheim-arts.net/Termine/]\n
URL:https://calendar.kufoka.de/event/ausstellung-urban-pop-art-vol-ii-letzt
	e-gelegenheit
LOCATION:Wertheim Arts Galerie - siehe Quelle
STATUS:CONFIRMED
CATEGORIES:AUSSTELLUNG,KAARST,MUSIK
X-ALT-DESC;FMTTYPE=text/html:Ein letzter Blick, die zweite Urban Pop Art-Au
	sstellung in der Wertheim Arts Galerie, Kaarst-Büttgen, endet heute. Frech
	 und bildgewaltig, modern und mit kritischem Zeitgeist. Zu sehen sind Arbe
	iten unter... mehr<br><br>Weitere Informationen:<br><a href="https://werth
	eim-arts.net/Termine/">https://wertheim-arts.net/Termine/</a><br>
BEGIN:VALARM
ACTION:DISPLAY
DESCRIPTION:Ausstellung Urban Pop Art Vol. II - letzte Gelegenheit!
TRIGGER:-PT1H
END:VALARM
END:VEVENT
END:VCALENDAR
