BEGIN:VCALENDAR
VERSION:2.0
CALSCALE:GREGORIAN
PRODID:adamgibbons/ics
METHOD:PUBLISH
X-PUBLISHED-TTL:PT1H
BEGIN:VEVENT
UID:2834@calendar.kufoka.de
SUMMARY:Ausstellung Urban Pop Art Vol. II - moderner Zeitgeist für dein Zuh
	ause
DTSTAMP:20260420T105110Z
DTSTART:20260422T080000Z
DESCRIPTION:Farbgewaltig und frech - die zweite Urban Pop Art-Ausstellung i
	n der Wertheim\nArts Galerie\, Kaarst-Büttgen\, begeistert mit Modernität 
	und kritischem\nZeitgeist. Zu sehen sind Arbeiten unter anderem von Keith.
	.. mehr\n\nWeitere Informationen:\nhttps://wertheim-arts.net/Termine/ [htt
	ps://wertheim-arts.net/Termine/]\n
URL:https://calendar.kufoka.de/event/ausstellung-urban-pop-art-vol-ii-moder
	ner-zeitgeist-fur-dein-zuhause
LOCATION:Wertheim Arts Galerie - siehe Quelle
STATUS:CONFIRMED
CATEGORIES:AUSSTELLUNG,KAARST,MUSIK
X-ALT-DESC;FMTTYPE=text/html:Farbgewaltig und frech - die zweite Urban Pop 
	Art-Ausstellung in der Wertheim Arts Galerie, Kaarst-Büttgen, begeistert m
	it Modernität und kritischem Zeitgeist. Zu sehen sind Arbeiten unter ander
	em von Keith... mehr<br><br>Weitere Informationen:<br><a href="https://wer
	theim-arts.net/Termine/">https://wertheim-arts.net/Termine/</a><br>
BEGIN:VALARM
ACTION:DISPLAY
DESCRIPTION:Ausstellung Urban Pop Art Vol. II - moderner Zeitgeist für dein
	 Zuhause
TRIGGER:-PT1H
END:VALARM
END:VEVENT
END:VCALENDAR
