BEGIN:VCALENDAR
VERSION:2.0
CALSCALE:GREGORIAN
PRODID:adamgibbons/ics
METHOD:PUBLISH
X-PUBLISHED-TTL:PT1H
BEGIN:VEVENT
UID:2842@calendar.kufoka.de
SUMMARY:Ausstellung Urban Pop Arts Vol III - Wahrhol\, Lichtenstein\, Harin
	g\, Basquiat
DTSTAMP:20260420T105425Z
DTSTART:20260624T080000Z
DESCRIPTION:Nur eine Woche ist die dritte Urban Pop Art-Ausstellung der Wer
	theim Arts\nGalerie\, Kaarst-Büttgen\, zu sehen. Präsentiert werden Lithog
	rafien und Unikate\nunter anderem von Andy Wahrhol\, Roy Lichtenstein\, Ke
	ith... mehr\n\nWeitere Informationen:\nhttps://wertheim-arts.net/Termine/ 
	[https://wertheim-arts.net/Termine/]\n
URL:https://calendar.kufoka.de/event/ausstellung-urban-pop-arts-vol-iii-wah
	rhol-lichtenstein-haring-basquiat
LOCATION:Wertheim Arts Galerie - siehe Quelle
STATUS:CONFIRMED
CATEGORIES:AUSSTELLUNG,KAARST,MUSIK
X-ALT-DESC;FMTTYPE=text/html:Nur eine Woche ist die dritte Urban Pop Art-Au
	sstellung der Wertheim Arts Galerie, Kaarst-Büttgen, zu sehen. Präsentiert
	 werden Lithografien und Unikate unter anderem von Andy Wahrhol, Roy Licht
	enstein, Keith... mehr<br><br>Weitere Informationen:<br><a href="https://w
	ertheim-arts.net/Termine/">https://wertheim-arts.net/Termine/</a><br>
BEGIN:VALARM
ACTION:DISPLAY
DESCRIPTION:Ausstellung Urban Pop Arts Vol III - Wahrhol, Lichtenstein, Har
	ing, Basquiat
TRIGGER:-PT1H
END:VALARM
END:VEVENT
END:VCALENDAR
