BEGIN:VCALENDAR
VERSION:2.0
CALSCALE:GREGORIAN
PRODID:adamgibbons/ics
METHOD:PUBLISH
X-PUBLISHED-TTL:PT1H
BEGIN:VEVENT
UID:2843@calendar.kufoka.de
SUMMARY:Eröffnung der Ausstellung "Fotografie im Dialog" von Hilla Baecker 
	und Ernst Neugebauer
DTSTAMP:20260420T103953Z
DTSTART:20260704T150000Z
DESCRIPTION:Klare Bildsprache\, faszinierende Perspektiven - die Fotografie
	n des\nKünstlerpaares Hilla Baecker und Ernst Neugebauer ziehen Betrachter
	*innen in den\nBann. Am 04.07. um 17.00 Uhr wird ihre Duo-Ausstellung mit.
	.. mehr\n\nWeitere Informationen:\nhttps://wertheim-arts.net/Termine/ [htt
	ps://wertheim-arts.net/Termine/]\n
URL:https://calendar.kufoka.de/event/eroffnung-der-ausstellung-fotografie-i
	m-dialog-von-hilla-baecker-und-ernst-neugebauer
LOCATION:Wertheim Arts Galerie - siehe Quelle
STATUS:CONFIRMED
CATEGORIES:AUSSTELLUNG,KAARST
X-ALT-DESC;FMTTYPE=text/html:Klare Bildsprache, faszinierende Perspektiven 
	- die Fotografien des Künstlerpaares Hilla Baecker und Ernst Neugebauer zi
	ehen Betrachter*innen in den Bann. Am 04.07. um 17.00 Uhr wird ihre Duo-Au
	sstellung mit... mehr<br><br>Weitere Informationen:<br><a href="https://we
	rtheim-arts.net/Termine/">https://wertheim-arts.net/Termine/</a><br>
BEGIN:VALARM
ACTION:DISPLAY
DESCRIPTION:Eröffnung der Ausstellung "Fotografie im Dialog" von Hilla Baec
	ker und Ernst Neugebauer
TRIGGER:-PT1H
END:VALARM
END:VEVENT
END:VCALENDAR
