BEGIN:VCALENDAR
VERSION:2.0
CALSCALE:GREGORIAN
PRODID:adamgibbons/ics
METHOD:PUBLISH
X-PUBLISHED-TTL:PT1H
BEGIN:VEVENT
UID:2833@calendar.kufoka.de
SUMMARY:Feierabendmarkt & Ausstellung - eine genussvolle Kombination
DTSTAMP:20260420T103849Z
DTSTART:20260421T150000Z
DESCRIPTION:Während des Feierabendmarktes "Büttgen schmeckt" auch Kunst gen
	ießen - das kann\nman in der Wertheim Arts Galerie direkt auf dem Rathausp
	latz 4\, an diesem\nSonderöffnungstag! Farbgewaltig und frech - die zweite
	... mehr\n\nWeitere Informationen:\nhttps://wertheim-arts.net/Termine/ [ht
	tps://wertheim-arts.net/Termine/]\n
URL:https://calendar.kufoka.de/event/feierabendmarkt-and-ausstellung-eine-g
	enussvolle-kombination
LOCATION:Wertheim Arts Galerie - siehe Quelle
STATUS:CONFIRMED
CATEGORIES:AUSSTELLUNG,KAARST
X-ALT-DESC;FMTTYPE=text/html:Während des Feierabendmarktes "Büttgen schmeck
	t" auch Kunst genießen - das kann man in der Wertheim Arts Galerie direkt 
	auf dem Rathausplatz 4, an diesem Sonderöffnungstag!  Farbgewaltig und fre
	ch - die zweite... mehr<br><br>Weitere Informationen:<br><a href="https://
	wertheim-arts.net/Termine/">https://wertheim-arts.net/Termine/</a><br>
BEGIN:VALARM
ACTION:DISPLAY
DESCRIPTION:Feierabendmarkt & Ausstellung - eine genussvolle Kombination
TRIGGER:-PT1H
END:VALARM
END:VEVENT
END:VCALENDAR
