BEGIN:VCALENDAR
VERSION:2.0
CALSCALE:GREGORIAN
PRODID:adamgibbons/ics
METHOD:PUBLISH
X-PUBLISHED-TTL:PT1H
BEGIN:VEVENT
UID:2829@calendar.kufoka.de
SUMMARY:Fortlaufender Malworkshop "Experimentelle Malerei"
DTSTAMP:20260419T133108Z
DTSTART:20260414T080000Z
DESCRIPTION:(vierzehntägig)\nweitere Termine: 14.04.\, 28.04. \, 12.05. und
	 27.05. 2026  4 Termine Gebühr: \n120\,00 €\n\nWeitere Informationen:\nhtt
	ps://www.ursula-ringes-schages.de/events\n[https://www.ursula-ringes-schag
	es.de/events]\n
URL:https://calendar.kufoka.de/event/fortlaufender-malworkshop-experimentel
	le-malerei-2
LOCATION:Ursula Ringes-Schages - siehe Quelle
STATUS:CONFIRMED
CATEGORIES:AUSSTELLUNG,KAARST
X-ALT-DESC;FMTTYPE=text/html:(vierzehntägig)<br>weitere Termine: 14.04., 28
	.04. , 12.05. und 27.05. 2026&nbsp; 4 Termine Gebühr:&nbsp; 120,00 €<br><b
	r>Weitere Informationen:<br><a href="https://www.ursula-ringes-schages.de/
	events">https://www.ursula-ringes-schages.de/events</a><br>
BEGIN:VALARM
ACTION:DISPLAY
DESCRIPTION:Fortlaufender Malworkshop "Experimentelle Malerei"
TRIGGER:-PT1H
END:VALARM
END:VEVENT
END:VCALENDAR
