BEGIN:VCALENDAR
VERSION:2.0
CALSCALE:GREGORIAN
PRODID:adamgibbons/ics
METHOD:PUBLISH
X-PUBLISHED-TTL:PT1H
BEGIN:VEVENT
UID:2828@calendar.kufoka.de
SUMMARY:Fortlaufender Malworkshop "Malen als Heilkraft der Seele."  https:/
	/www.ursula-ringes-schages.de/events
DTSTAMP:20260419T134231Z
DTSTART:20250505T080000Z
DESCRIPTION:05.05.\, 19.05.\, 02.06. und 16.06. 2026  4 Termine Gebühr: 120
	\,00 €\n\nWeitere Informationen:\nhttps://www.ursula-ringes-schages.de/eve
	nts\n[https://www.ursula-ringes-schages.de/events]\n
URL:https://calendar.kufoka.de/event/fortlaufender-malworkshop-malen-als-he
	ilkraft-der-seele-httpswwwursula-ringes-schagesdeevents-3
LOCATION:Ursula Ringes-Schages - siehe Quelle
STATUS:CONFIRMED
CATEGORIES:KAARST
X-ALT-DESC;FMTTYPE=text/html:05.05., 19.05., 02.06. und 16.06. 2026&nbsp; 4
	 Termine Gebühr: 120,00 €<br><br>Weitere Informationen:<br><a href="https:
	//www.ursula-ringes-schages.de/events">https://www.ursula-ringes-schages.d
	e/events</a><br>
BEGIN:VALARM
ACTION:DISPLAY
DESCRIPTION:Fortlaufender Malworkshop "Malen als Heilkraft der Seele."  htt
	ps://www.ursula-ringes-schages.de/events
TRIGGER:-PT1H
END:VALARM
END:VEVENT
END:VCALENDAR
