BEGIN:VCALENDAR
VERSION:2.0
CALSCALE:GREGORIAN
PRODID:adamgibbons/ics
METHOD:PUBLISH
X-PUBLISHED-TTL:PT1H
BEGIN:VEVENT
UID:2847@calendar.kufoka.de
SUMMARY:Für immer ein Teil von dir
DTSTAMP:20260421T111937Z
DTSTART:20260513T180000Z
DESCRIPTION:Am 13. Mai um 17 und 20 Uhr Uhr im [...]\n\nWeitere Information
	en:\nhttps://kunst-kaarst.de/kino/fuer-immer-ein-teil-von-dir-2/\n[https:/
	/kunst-kaarst.de/kino/fuer-immer-ein-teil-von-dir-2/]\n
URL:https://calendar.kufoka.de/event/fur-immer-ein-teil-von-dir-1
LOCATION:Kino Kaarst - siehe Quelle
STATUS:CONFIRMED
CATEGORIES:AUSSTELLUNG,FILM,KAARST
X-ALT-DESC;FMTTYPE=text/html:Am 13. Mai um 17 und 20 Uhr Uhr im  [...]<br><
	br>Weitere Informationen:<br><a href="https://kunst-kaarst.de/kino/fuer-im
	mer-ein-teil-von-dir-2/">https://kunst-kaarst.de/kino/fuer-immer-ein-teil-
	von-dir-2/</a><br>
BEGIN:VALARM
ACTION:DISPLAY
DESCRIPTION:Für immer ein Teil von dir
TRIGGER:-PT1H
END:VALARM
END:VEVENT
END:VCALENDAR
