BEGIN:VCALENDAR
VERSION:2.0
CALSCALE:GREGORIAN
PRODID:adamgibbons/ics
METHOD:PUBLISH
X-PUBLISHED-TTL:PT1H
BEGIN:VEVENT
UID:2850@calendar.kufoka.de
SUMMARY:Gude Leude - Gude Leude? - Gude Show! - VERLEGT auf den 25.02.2027 
	im TwentySeven
DTSTAMP:20260421T111012Z
DTSTART:20260530T180000Z
DTEND:20260530T180500Z
DESCRIPTION:„Das ist doch jetzt nicht alles improvisiert oder?“ Doch. Ist e
	s.\nFür eine gude Show braucht es nichts – außer Gude Leude. Denn die jong
	lieren\nmit euren Ideen wie mit brennenden Marshmallows – mal sehen\, wer 
	sich dabei\ndie Finger verbrennt.\n\nWeitere Informationen:\nhttps://www.k
	abarett-kaarst.de/events/gude-leude-gude-leude-gude-show-verlegt-auf-den-2
	5-02-2027-im-twentyseven\n[https://www.kabarett-kaarst.de/events/gude-leud
	e-gude-leude-gude-show-verlegt-auf-den-25-02-2027-im-twentyseven]\n
URL:https://calendar.kufoka.de/event/gude-leude-gude-leude-gude-show-verleg
	t-auf-den-25022027-im-twentyseven
LOCATION:Kabarett Kaarst - Hanns-Martin-Schleyer-Straße 27\, 41564 Kaarst
STATUS:CONFIRMED
CATEGORIES:HUMOR,KAARST
X-ALT-DESC;FMTTYPE=text/html:„Das ist doch jetzt nicht alles improvisiert o
	der?“ Doch. Ist es.<br>Für eine gude Show braucht es nichts – außer Gude L
	eude. Denn die jonglieren<br>mit euren Ideen wie mit brennenden Marshmallo
	ws – mal sehen, wer sich dabei<br>die Finger verbrennt.<br><br>Weitere Inf
	ormationen:<br><a href="https://www.kabarett-kaarst.de/events/gude-leude-g
	ude-leude-gude-show-verlegt-auf-den-25-02-2027-im-twentyseven">https://www
	.kabarett-kaarst.de/events/gude-leude-gude-leude-gude-show-verlegt-auf-den
	-25-02-2027-im-twentyseven</a><br>
BEGIN:VALARM
ACTION:DISPLAY
DESCRIPTION:Gude Leude - Gude Leude? - Gude Show! - VERLEGT auf den 25.02.2
	027 im TwentySeven
TRIGGER:-PT1H
END:VALARM
END:VEVENT
END:VCALENDAR
