BEGIN:VCALENDAR
VERSION:2.0
CALSCALE:GREGORIAN
PRODID:adamgibbons/ics
METHOD:PUBLISH
X-PUBLISHED-TTL:PT1H
BEGIN:VEVENT
UID:2831@calendar.kufoka.de
SUMMARY:"Heilsame Bilder - Die Kraft der Elemente"
DTSTAMP:20260419T135034Z
DTSTART:20260424T150000Z
DESCRIPTION:Ohne Leistungsdruck und ohne malerische Vorkenntnisse entstehen
	 individuelle\nKraftbilder. Kurze Meditationen und einfache Wahrnehmungsüb
	ungen unterstützen\nden kreativen Prozess. Ziel des Kurses ist es\, Entspa
	nnung zu erfahren\, neue\nkreative Zugänge zu entdecken und den eigenen Au
	sdruck zu fördern.\nDer Kurs richtet sich an Teilnehmer\, die Freude am Ma
	len haben\, Stress abbauen\nmöchten und sich eine kreative Auszeit vom All
	tag wünschen\nEinmal im Monat Freitags von 17.00 -19.30 Uhr\nweitere Termi
	ne:   24.04.2026\, 08.05.2026\,  3 Termine Gebühr 105\,00 €\n\nWeitere Inf
	ormationen:\nhttps://www.ursula-ringes-schages.de/events\n[https://www.urs
	ula-ringes-schages.de/events]\n
URL:https://calendar.kufoka.de/event/heilsame-bilder-die-kraft-der-elemente
LOCATION:Ursula Ringes-Schages - siehe Quelle
STATUS:CONFIRMED
CATEGORIES:KAARST
X-ALT-DESC;FMTTYPE=text/html:Ohne Leistungsdruck und ohne malerische Vorken
	ntnisse entstehen individuelle Kraftbilder. Kurze Meditationen und einfach
	e Wahrnehmungsübungen unterstützen den kreativen Prozess. Ziel des Kurses 
	ist es, Entspannung zu erfahren, neue kreative Zugänge zu entdecken und de
	n eigenen Ausdruck zu fördern.<br>Der Kurs richtet sich an Teilnehmer, die
	 Freude am Malen haben, Stress abbauen möchten und sich eine kreative Ausz
	eit vom Alltag wünschen<br>Einmal im Monat Freitags von 17.00 -19.30 Uhr<b
	r>weitere Termine: &nbsp; 24.04.2026, 08.05.2026,&nbsp; 3 Termine Gebühr 1
	05,00 €<br><br>Weitere Informationen:<br><a href="https://www.ursula-ringe
	s-schages.de/events">https://www.ursula-ringes-schages.de/events</a><br>
BEGIN:VALARM
ACTION:DISPLAY
DESCRIPTION:"Heilsame Bilder - Die Kraft der Elemente"
TRIGGER:-PT1H
END:VALARM
END:VEVENT
END:VCALENDAR
