BEGIN:VCALENDAR
VERSION:2.0
CALSCALE:GREGORIAN
PRODID:adamgibbons/ics
METHOD:PUBLISH
X-PUBLISHED-TTL:PT1H
BEGIN:VEVENT
UID:2845@calendar.kufoka.de
SUMMARY:Monsieur Robert kennt kein Pardon
DTSTAMP:20260421T110827Z
DTSTART:20260506T180000Z
DESCRIPTION:Am 06. Mai um 17 und 20 Uhr Uhr im [...]\n\nWeitere Information
	en:\nhttps://kunst-kaarst.de/kino/monsieur-robert-kennt-kein-pardon-2/\n[h
	ttps://kunst-kaarst.de/kino/monsieur-robert-kennt-kein-pardon-2/]\n
URL:https://calendar.kufoka.de/event/monsieur-robert-kennt-kein-pardon-1
LOCATION:Kino Kaarst - siehe Quelle
STATUS:CONFIRMED
CATEGORIES:AUSSTELLUNG,FILM,KAARST
X-ALT-DESC;FMTTYPE=text/html:Am 06. Mai um 17 und 20 Uhr Uhr im  [...]<br><
	br>Weitere Informationen:<br><a href="https://kunst-kaarst.de/kino/monsieu
	r-robert-kennt-kein-pardon-2/">https://kunst-kaarst.de/kino/monsieur-rober
	t-kennt-kein-pardon-2/</a><br>
BEGIN:VALARM
ACTION:DISPLAY
DESCRIPTION:Monsieur Robert kennt kein Pardon
TRIGGER:-PT1H
END:VALARM
END:VEVENT
END:VCALENDAR
