BEGIN:VCALENDAR
VERSION:2.0
CALSCALE:GREGORIAN
PRODID:adamgibbons/ics
METHOD:PUBLISH
X-PUBLISHED-TTL:PT1H
BEGIN:VEVENT
UID:2853@calendar.kufoka.de
SUMMARY:MusikerStammtisch
DTSTAMP:20260422T105931Z
DTSTART:20260520T160000Z
DTEND:20260520T183000Z
DESCRIPTION:zwangloses Treffen für alle\, die Musik machen oder lieben\n\nW
	eitere Informationen:\nhttps://www.facebook.com/rainer.turnau.3\n[https://
	www.facebook.com/rainer.turnau.3]\n
URL:https://calendar.kufoka.de/event/musikerstammtisch-6
LOCATION:Altes Rathaus - siehe Quelle
STATUS:CONFIRMED
CATEGORIES:KAARST,MUSIK
X-ALT-DESC;FMTTYPE=text/html:zwangloses Treffen für alle, die Musik machen 
	oder lieben<br><br>Weitere Informationen:<br><a href="https://www.facebook
	.com/rainer.turnau.3">https://www.facebook.com/rainer.turnau.3</a><br>
BEGIN:VALARM
ACTION:DISPLAY
DESCRIPTION:MusikerStammtisch
TRIGGER:-PT1H
END:VALARM
END:VEVENT
END:VCALENDAR
