BEGIN:VCALENDAR
VERSION:2.0
CALSCALE:GREGORIAN
PRODID:adamgibbons/ics
METHOD:PUBLISH
X-PUBLISHED-TTL:PT1H
BEGIN:VEVENT
UID:2854@calendar.kufoka.de
SUMMARY:Rose
DTSTAMP:20260424T101447Z
DTSTART:20260527T150000Z
DESCRIPTION:Am 27. Mai um 17 und 20 Uhr Uhr im [...]\n\nWeitere Information
	en:\nhttps://kunst-kaarst.de/kino/rose/ [https://kunst-kaarst.de/kino/rose
	/]\n
URL:https://calendar.kufoka.de/event/rose
LOCATION:Kino Kaarst - siehe Quelle
STATUS:CONFIRMED
CATEGORIES:AUSSTELLUNG,FILM,KAARST
X-ALT-DESC;FMTTYPE=text/html:Am 27. Mai um 17 und 20 Uhr Uhr im  [...]<br><
	br>Weitere Informationen:<br><a href="https://kunst-kaarst.de/kino/rose/">
	https://kunst-kaarst.de/kino/rose/</a><br>
BEGIN:VALARM
ACTION:DISPLAY
DESCRIPTION:Rose
TRIGGER:-PT1H
END:VALARM
END:VEVENT
END:VCALENDAR
