BEGIN:VCALENDAR
VERSION:2.0
CALSCALE:GREGORIAN
PRODID:adamgibbons/ics
METHOD:PUBLISH
X-PUBLISHED-TTL:PT1H
BEGIN:VEVENT
UID:2830@calendar.kufoka.de
SUMMARY:Tagesworkshop:
DTSTAMP:20260419T133401Z
DTSTART:20260418T090000Z
DESCRIPTION:Experimentelle Malerei mit Kreiden\, Aquarell- und Acrylfarben 
	auf Papier und\nLeinwand\nGebühr: 75\,00 €\n\nWeitere Informationen:\nhttp
	s://www.ursula-ringes-schages.de/events\n[https://www.ursula-ringes-schage
	s.de/events]\n
URL:https://calendar.kufoka.de/event/tagesworkshop
LOCATION:Ursula Ringes-Schages - siehe Quelle
STATUS:CONFIRMED
CATEGORIES:AUSSTELLUNG,KAARST
X-ALT-DESC;FMTTYPE=text/html:Experimentelle Malerei mit Kreiden, Aquarell- 
	und Acrylfarben auf Papier und Leinwand<br>Gebühr: 75,00 €<br><br>Weitere 
	Informationen:<br><a href="https://www.ursula-ringes-schages.de/events">ht
	tps://www.ursula-ringes-schages.de/events</a><br>
BEGIN:VALARM
ACTION:DISPLAY
DESCRIPTION:Tagesworkshop:
TRIGGER:-PT1H
END:VALARM
END:VEVENT
END:VCALENDAR
