BEGIN:VCALENDAR
VERSION:2.0
CALSCALE:GREGORIAN
PRODID:adamgibbons/ics
METHOD:PUBLISH
X-PUBLISHED-TTL:PT1H
BEGIN:VEVENT
UID:2849@calendar.kufoka.de
SUMMARY:The History of Sound
DTSTAMP:20260421T110854Z
DTSTART:20260520T180000Z
DESCRIPTION:Am 20. Mai um 17 und 20 Uhr Uhr im [...]\n\nWeitere Information
	en:\nhttps://kunst-kaarst.de/kino/the-history-of-sound-2/\n[https://kunst-
	kaarst.de/kino/the-history-of-sound-2/]\n
URL:https://calendar.kufoka.de/event/the-history-of-sound-1
LOCATION:Kino Kaarst - siehe Quelle
STATUS:CONFIRMED
CATEGORIES:AUSSTELLUNG,KAARST,MUSIK
X-ALT-DESC;FMTTYPE=text/html:Am 20. Mai um 17 und 20 Uhr Uhr im  [...]<br><
	br>Weitere Informationen:<br><a href="https://kunst-kaarst.de/kino/the-his
	tory-of-sound-2/">https://kunst-kaarst.de/kino/the-history-of-sound-2/</a>
	<br>
BEGIN:VALARM
ACTION:DISPLAY
DESCRIPTION:The History of Sound
TRIGGER:-PT1H
END:VALARM
END:VEVENT
END:VCALENDAR
