BEGIN:VCALENDAR
VERSION:2.0
CALSCALE:GREGORIAN
PRODID:adamgibbons/ics
METHOD:PUBLISH
X-PUBLISHED-TTL:PT1H
BEGIN:VEVENT
UID:2841@calendar.kufoka.de
SUMMARY:Vernissage der Ausstellung "Farbwelten" von Petra Missal\, Kaarst
DTSTAMP:20260420T104822Z
DTSTART:20260530T150000Z
DESCRIPTION:Ende Mai eröffnet Petra Missal eine große Einzelausstellung mit
	 zahlreichen\nArbeiten auf Papier und Leinwand. Die Kaarster Künstlerin fe
	iert am 30.05. von\n17.00 bis 20.00 Uhr die Eröffnung ihrer... mehr\n\nWei
	tere Informationen:\nhttps://wertheim-arts.net/Termine/ [https://wertheim-
	arts.net/Termine/]\n
URL:https://calendar.kufoka.de/event/vernissage-der-ausstellung-farbwelten-
	von-petra-missal-kaarst
LOCATION:Wertheim Arts Galerie - siehe Quelle
STATUS:CONFIRMED
CATEGORIES:AUSSTELLUNG,KAARST
X-ALT-DESC;FMTTYPE=text/html:Ende Mai eröffnet Petra Missal eine große Einz
	elausstellung mit zahlreichen Arbeiten auf Papier und Leinwand. Die Kaarst
	er Künstlerin feiert am 30.05. von 17.00 bis 20.00 Uhr die Eröffnung ihrer
	... mehr<br><br>Weitere Informationen:<br><a href="https://wertheim-arts.n
	et/Termine/">https://wertheim-arts.net/Termine/</a><br>
BEGIN:VALARM
ACTION:DISPLAY
DESCRIPTION:Vernissage der Ausstellung "Farbwelten" von Petra Missal, Kaars
	t
TRIGGER:-PT1H
END:VALARM
END:VEVENT
END:VCALENDAR
