BEGIN:VCALENDAR
VERSION:2.0
CALSCALE:GREGORIAN
PRODID:adamgibbons/ics
METHOD:PUBLISH
X-PUBLISHED-TTL:PT1H
BEGIN:VEVENT
UID:2840@calendar.kufoka.de
SUMMARY:Vernissage der Ausstellung "Kraft der Frau" von Maria Rath\, Kaarst
DTSTAMP:20260420T103704Z
DTSTART:20260509T150000Z
DESCRIPTION:Raumgreifend und emotional - so präsentiert die Kaarster Maleri
	n Maria Rath ihre\nKunstwerke auf großen Leinwänden. Mit dem Titel "Kraft 
	der Frau" feiert die\nKünstlerin aus Driesch die Lebensfreude\, den Mut un
	d... mehr\n\nWeitere Informationen:\nhttps://wertheim-arts.net/Termine/ [h
	ttps://wertheim-arts.net/Termine/]\n
URL:https://calendar.kufoka.de/event/vernissage-der-ausstellung-kraft-der-f
	rau-von-maria-rath-kaarst
LOCATION:Wertheim Arts Galerie - siehe Quelle
STATUS:CONFIRMED
CATEGORIES:AUSSTELLUNG,KAARST
X-ALT-DESC;FMTTYPE=text/html:Raumgreifend und emotional - so präsentiert di
	e Kaarster Malerin Maria Rath ihre Kunstwerke auf großen Leinwänden. Mit d
	em Titel "Kraft der Frau" feiert die Künstlerin aus Driesch die Lebensfreu
	de, den Mut und... mehr<br><br>Weitere Informationen:<br><a href="https://
	wertheim-arts.net/Termine/">https://wertheim-arts.net/Termine/</a><br>
BEGIN:VALARM
ACTION:DISPLAY
DESCRIPTION:Vernissage der Ausstellung "Kraft der Frau" von Maria Rath, Kaa
	rst
TRIGGER:-PT1H
END:VALARM
END:VEVENT
END:VCALENDAR
