BEGIN:VCALENDAR
VERSION:2.0
CALSCALE:GREGORIAN
PRODID:adamgibbons/ics
METHOD:PUBLISH
X-PUBLISHED-TTL:PT1H
BEGIN:VEVENT
UID:2852@calendar.kufoka.de
SUMMARY:Zu Gast bei Bob Dylan
DTSTAMP:20260422T110212Z
DTSTART:20260503T120000Z
DTEND:20260503T150000Z
DESCRIPTION:Sonderveranstaltung zur Fotoausstellung von Robert Jordan *In d
	ie Zeit gefallen*\nim Kulturbahnhof Korschenbroich. Robert Jordan führt in
	 die Thematik ein. Die\nMusik kommt von John Born.\n\nWeitere Informatione
	n:\nhttps://www.kulturforum-kaarst.de/news/In-die-Zeit-gefallen-Fotoausste
	llung-von-Robert-Jordan\n[https://www.kulturforum-kaarst.de/news/In-die-Ze
	it-gefallen-Fotoausstellung-von-Robert-Jordan]\n
URL:https://calendar.kufoka.de/event/zu-gast-bei-bob-dylan
LOCATION:Kulturbahnhof Korschenbroich - Am Bahnhof 2\, 41352 Korschenbroich
STATUS:CONFIRMED
CATEGORIES:AUSSTELLUNG,KAARST,MUSIK
X-ALT-DESC;FMTTYPE=text/html:Sonderveranstaltung zur Fotoausstellung von Ro
	bert Jordan *In die Zeit gefallen* im Kulturbahnhof Korschenbroich. Robert
	 Jordan führt in die Thematik ein. Die Musik kommt von John Born.<br><br>W
	eitere Informationen:<br><a href="https://www.kulturforum-kaarst.de/news/I
	n-die-Zeit-gefallen-Fotoausstellung-von-Robert-Jordan">https://www.kulturf
	orum-kaarst.de/news/In-die-Zeit-gefallen-Fotoausstellung-von-Robert-Jordan
	</a><br>
BEGIN:VALARM
ACTION:DISPLAY
DESCRIPTION:Zu Gast bei Bob Dylan
TRIGGER:-PT1H
END:VALARM
END:VEVENT
END:VCALENDAR
