BEGIN:VCALENDAR
VERSION:2.0
CALSCALE:GREGORIAN
PRODID:adamgibbons/ics
METHOD:PUBLISH
X-PUBLISHED-TTL:PT1H
BEGIN:VEVENT
UID:2716@calendar.kufoka.de
SUMMARY:Guido Cantz - KOMISCHE ZEITEN - AUSVERKAUFT!
DTSTAMP:20260419T173756Z
DTSTART:20260531T170000Z
DTEND:20260531T210000Z
URL:https://calendar.kufoka.de/event/guido-cantz-komische-zeiten-ausverkauf
	t
LOCATION:Kabarett Kaarst - Hanns-Martin-Schleyer-Straße 27\, 41564 Kaarst
STATUS:CONFIRMED
CATEGORIES:HUMOR,KAARST
END:VEVENT
BEGIN:VEVENT
UID:2630@calendar.kufoka.de
SUMMARY:5. Kaarster Comedy Night  
DTSTAMP:20260419T173756Z
DTSTART:20260709T173000Z
DTEND:20260709T213000Z
URL:https://calendar.kufoka.de/event/5-kaarster-comedy-night
LOCATION:Kabarett Kaarst - Hanns-Martin-Schleyer-Straße 27\, 41564 Kaarst
STATUS:CONFIRMED
CATEGORIES:HUMOR,KAARST
END:VEVENT
BEGIN:VEVENT
UID:2773@calendar.kufoka.de
SUMMARY:Dracula Buch / Texte von Don Black und Christopher Hampton
DTSTAMP:20260419T173756Z
DTSTART:20260711T180000Z
DTEND:20260711T220000Z
URL:https://calendar.kufoka.de/event/dracula-buch-texte-von-don-black-und-c
	hristopher-hampton
LOCATION:Kabarett Kaarst - Hanns-Martin-Schleyer-Straße 27\, 41564 Kaarst
STATUS:CONFIRMED
CATEGORIES:KAARST,LITERATUR,MUSIK
END:VEVENT
BEGIN:VEVENT
UID:2774@calendar.kufoka.de
SUMMARY:Dracula Buch / Texte von Don Black und Christopher Hampton
DTSTAMP:20260419T173756Z
DTSTART:20260712T170000Z
DTEND:20260712T210000Z
URL:https://calendar.kufoka.de/event/dracula-buch-texte-von-don-black-und-c
	hristopher-hampton-1
LOCATION:Kabarett Kaarst - Hanns-Martin-Schleyer-Straße 27\, 41564 Kaarst
STATUS:CONFIRMED
CATEGORIES:KAARST,LITERATUR,MUSIK
END:VEVENT
BEGIN:VEVENT
UID:2637@calendar.kufoka.de
SUMMARY:Jonas Greiner - „Auf Augenhöhe“
DTSTAMP:20260419T173756Z
DTSTART:20260904T180000Z
DTEND:20260904T215000Z
URL:https://calendar.kufoka.de/event/jonas-greiner-auf-augenhohe-1
LOCATION:Kabarett Kaarst - Hanns-Martin-Schleyer-Straße 27\, 41564 Kaarst
STATUS:CONFIRMED
CATEGORIES:HUMOR,KAARST
END:VEVENT
BEGIN:VEVENT
UID:2717@calendar.kufoka.de
SUMMARY:Emmi & Herr Willnowsky - verschoben vom 05.09.2026
DTSTAMP:20260419T173756Z
DTSTART:20261003T180000Z
DTEND:20261003T215000Z
URL:https://calendar.kufoka.de/event/emmi-and-herr-willnowsky-verschoben-vo
	m-05092026
LOCATION:Kabarett Kaarst - Hanns-Martin-Schleyer-Straße 27\, 41564 Kaarst
STATUS:CONFIRMED
CATEGORIES:HUMOR,KAARST
END:VEVENT
BEGIN:VEVENT
UID:2718@calendar.kufoka.de
SUMMARY:Jonas Greiner - „Auf Augenhöhe“ - verschoben vom 04.09.2026
DTSTAMP:20260419T173756Z
DTSTART:20261017T180000Z
DTEND:20261017T215000Z
URL:https://calendar.kufoka.de/event/jonas-greiner-auf-augenhohe-verschoben
	-vom-04092026
LOCATION:Kabarett Kaarst - Hanns-Martin-Schleyer-Straße 27\, 41564 Kaarst
STATUS:CONFIRMED
CATEGORIES:HUMOR,KAARST
END:VEVENT
BEGIN:VEVENT
UID:2719@calendar.kufoka.de
SUMMARY:André Herrmann - Schlechte Zeiten Schlechte Zeiten - verschoben vom
	 29.01.2026
DTSTAMP:20260419T173756Z
DTSTART:20261022T173000Z
DTEND:20261022T213000Z
URL:https://calendar.kufoka.de/event/andre-herrmann-schlechte-zeiten-schlec
	hte-zeiten-verschoben-vom-29012026
LOCATION:Kabarett Kaarst - Hanns-Martin-Schleyer-Straße 27\, 41564 Kaarst
STATUS:CONFIRMED
CATEGORIES:HUMOR,KAARST
END:VEVENT
BEGIN:VEVENT
UID:2827@calendar.kufoka.de
SUMMARY:Beatles Revival Band - Nur noch wenige Tickets verfügbar
DTSTAMP:20260419T173756Z
DTSTART:20261107T190000Z
DTEND:20261107T225000Z
URL:https://calendar.kufoka.de/event/beatles-revival-band-nur-noch-wenige-t
	ickets-verfugbar
LOCATION:Kabarett Kaarst - Hanns-Martin-Schleyer-Straße 27\, 41564 Kaarst
STATUS:CONFIRMED
CATEGORIES:HUMOR,KAARST,MUSIK
END:VEVENT
BEGIN:VEVENT
UID:2638@calendar.kufoka.de
SUMMARY:6. Kaarster Comedy Night
DTSTAMP:20260419T173756Z
DTSTART:20261112T183000Z
DTEND:20261112T223000Z
URL:https://calendar.kufoka.de/event/6-kaarster-comedy-night
LOCATION:Kabarett Kaarst - Hanns-Martin-Schleyer-Straße 27\, 41564 Kaarst
STATUS:CONFIRMED
CATEGORIES:HUMOR,KAARST
END:VEVENT
BEGIN:VEVENT
UID:2720@calendar.kufoka.de
SUMMARY:Tom Gaebel & His Trio - "A Swinging Affair"  - verschoben vom 25.09
	.2026
DTSTAMP:20260419T173756Z
DTSTART:20261121T190000Z
DTEND:20261121T230000Z
URL:https://calendar.kufoka.de/event/tom-gaebel-and-his-trio-a-swinging-aff
	air-verschoben-vom-25092026
LOCATION:Kabarett Kaarst - Hanns-Martin-Schleyer-Straße 27\, 41564 Kaarst
STATUS:CONFIRMED
CATEGORIES:HUMOR,KAARST,MUSIK
END:VEVENT
BEGIN:VEVENT
UID:2639@calendar.kufoka.de
SUMMARY: Ko(m)mödchen - neues Programm
DTSTAMP:20260419T173756Z
DTSTART:20261127T190000Z
DTEND:20261127T190500Z
URL:https://calendar.kufoka.de/event/kommodchen-neues-programm
LOCATION:Kabarett Kaarst - Hanns-Martin-Schleyer-Straße 27\, 41564 Kaarst
STATUS:CONFIRMED
CATEGORIES:HUMOR,KAARST
END:VEVENT
BEGIN:VEVENT
UID:2721@calendar.kufoka.de
SUMMARY: Ko(m)mödchen - neues Programm - AUSVERKAUFT!
DTSTAMP:20260419T173756Z
DTSTART:20261127T190000Z
DTEND:20261127T190500Z
URL:https://calendar.kufoka.de/event/kommodchen-neues-programm-ausverkauft
LOCATION:Kabarett Kaarst - Hanns-Martin-Schleyer-Straße 27\, 41564 Kaarst
STATUS:CONFIRMED
CATEGORIES:HUMOR,KAARST
END:VEVENT
END:VCALENDAR
